BEGIN:VCALENDAR
VERSION:2.0
PRODID:-//Erwin Strikker - ECPv6.15.20//NONSGML v1.0//EN
CALSCALE:GREGORIAN
METHOD:PUBLISH
X-ORIGINAL-URL:https://erwin-strikker.nl
X-WR-CALDESC:Evenementen voor Erwin Strikker
REFRESH-INTERVAL;VALUE=DURATION:PT1H
X-Robots-Tag:noindex
X-PUBLISHED-TTL:PT1H
BEGIN:VTIMEZONE
TZID:UTC
BEGIN:STANDARD
TZOFFSETFROM:+0000
TZOFFSETTO:+0000
TZNAME:UTC
DTSTART:20230101T000000
END:STANDARD
END:VTIMEZONE
BEGIN:VEVENT
DTSTART;TZID=UTC:20240813T140000
DTEND;TZID=UTC:20240813T151500
DTSTAMP:20260423T194534
CREATED:20240728T162135Z
LAST-MODIFIED:20240810T200532Z
UID:177-1723557600-1723562100@erwin-strikker.nl
SUMMARY:De Twentse vocalisten Capriccio
DESCRIPTION:Vanmiddag treedt Capriccio op voor de bewoners vanTMZ Het Borsthuis in een besloten concert. Sopraan Elena Kopanychuk\, tenor Herman Padberg en pianist Erwin Strikker brengen dan een gevarieerd programma van Opera tot Frank Sinatra. Met uitstapjes in verschillende genres zoals: Opera\, Operette\, Italiaans\, Nederlands\, Weense melodieën\, Duitse schlagers\, Engels\, Spaans\, enzovoorts. \nEen programma met melodieën waarin een ieder zich kan herkennen.
URL:https://erwin-strikker.nl/agenda/de-twentse-vocalisten-capriccio/
END:VEVENT
END:VCALENDAR