BEGIN:VCALENDAR
VERSION:2.0
PRODID:-//Erwin Strikker - ECPv6.15.20//NONSGML v1.0//EN
CALSCALE:GREGORIAN
METHOD:PUBLISH
X-ORIGINAL-URL:https://erwin-strikker.nl
X-WR-CALDESC:Evenementen voor Erwin Strikker
REFRESH-INTERVAL;VALUE=DURATION:PT1H
X-Robots-Tag:noindex
X-PUBLISHED-TTL:PT1H
BEGIN:VTIMEZONE
TZID:Europe/Amsterdam
BEGIN:DAYLIGHT
TZOFFSETFROM:+0100
TZOFFSETTO:+0200
TZNAME:CEST
DTSTART:20240331T010000
END:DAYLIGHT
BEGIN:STANDARD
TZOFFSETFROM:+0200
TZOFFSETTO:+0100
TZNAME:CET
DTSTART:20241027T010000
END:STANDARD
BEGIN:DAYLIGHT
TZOFFSETFROM:+0100
TZOFFSETTO:+0200
TZNAME:CEST
DTSTART:20250330T010000
END:DAYLIGHT
BEGIN:STANDARD
TZOFFSETFROM:+0200
TZOFFSETTO:+0100
TZNAME:CET
DTSTART:20251026T010000
END:STANDARD
BEGIN:DAYLIGHT
TZOFFSETFROM:+0100
TZOFFSETTO:+0200
TZNAME:CEST
DTSTART:20260329T010000
END:DAYLIGHT
BEGIN:STANDARD
TZOFFSETFROM:+0200
TZOFFSETTO:+0100
TZNAME:CET
DTSTART:20261025T010000
END:STANDARD
END:VTIMEZONE
BEGIN:VEVENT
DTSTART;TZID=Europe/Amsterdam:20251111T140000
DTEND;TZID=Europe/Amsterdam:20251111T160000
DTSTAMP:20260423T001126
CREATED:20251027T181212Z
LAST-MODIFIED:20251027T181212Z
UID:563-1762869600-1762876800@erwin-strikker.nl
SUMMARY:Pianist Erwin Strikker
DESCRIPTION:Vandaag wordt in TMZ Het Borsthuis weer het Parkinsoncafé gehouden.\nMet vandaag de jaarlijkse pubquiz ondersteunt door Erwin op de piano.\nWie gaan er dit keer met de wisselbeker naar huis?  Kom meespelen\, test uw kennis van het nieuws van afgelopen jaar en zing mee bij de muziekvragen! \nParkinson Café Hengelo is een laagdrempelige ontmoetingsplek voor mensen met de ziekte van Parkinson(ismen)\, hun partners\, familieleden en mantelzorgers. In een ontspannen sfeer worden er diverse onderwerpen besproken. Naast het uitwisselen van informatie en ervaringen kunt u in het Parkinson Café ook contact leggen met lotgenoten.
URL:https://erwin-strikker.nl/agenda/pianist-erwin-strikker-44/
LOCATION:TMZ Het Borsthuis\, P.C. Borstlaan 10\, 7555 SH Hengelo
END:VEVENT
END:VCALENDAR