BEGIN:VCALENDAR
VERSION:2.0
PRODID:-//Erwin Strikker - ECPv6.15.20//NONSGML v1.0//EN
CALSCALE:GREGORIAN
METHOD:PUBLISH
X-WR-CALNAME:Erwin Strikker
X-ORIGINAL-URL:https://erwin-strikker.nl
X-WR-CALDESC:Evenementen voor Erwin Strikker
REFRESH-INTERVAL;VALUE=DURATION:PT1H
X-Robots-Tag:noindex
X-PUBLISHED-TTL:PT1H
BEGIN:VTIMEZONE
TZID:Europe/Amsterdam
BEGIN:DAYLIGHT
TZOFFSETFROM:+0100
TZOFFSETTO:+0200
TZNAME:CEST
DTSTART:20240331T010000
END:DAYLIGHT
BEGIN:STANDARD
TZOFFSETFROM:+0200
TZOFFSETTO:+0100
TZNAME:CET
DTSTART:20241027T010000
END:STANDARD
BEGIN:DAYLIGHT
TZOFFSETFROM:+0100
TZOFFSETTO:+0200
TZNAME:CEST
DTSTART:20250330T010000
END:DAYLIGHT
BEGIN:STANDARD
TZOFFSETFROM:+0200
TZOFFSETTO:+0100
TZNAME:CET
DTSTART:20251026T010000
END:STANDARD
BEGIN:DAYLIGHT
TZOFFSETFROM:+0100
TZOFFSETTO:+0200
TZNAME:CEST
DTSTART:20260329T010000
END:DAYLIGHT
BEGIN:STANDARD
TZOFFSETFROM:+0200
TZOFFSETTO:+0100
TZNAME:CET
DTSTART:20261025T010000
END:STANDARD
END:VTIMEZONE
BEGIN:VEVENT
DTSTART;TZID=Europe/Amsterdam:20251130T100000
DTEND;TZID=Europe/Amsterdam:20251130T130000
DTSTAMP:20260423T001025
CREATED:20251125T112929Z
LAST-MODIFIED:20251125T112929Z
UID:640-1764496800-1764507600@erwin-strikker.nl
SUMMARY:Pianist Erwin Strikker
DESCRIPTION:Vanmorgen speelt Erwin tijdens het ontbijt op de vleugel in de lounge van Theaterhotel Almelo.\nGeniet van sfeervol ontbijten tijdens prachtige muziek!
URL:https://erwin-strikker.nl/agenda/pianist-erwin-strikker-51/
LOCATION:Theaterhotel Almelo\, Schouwburgplein 1\, Almelo\, 7607 AE
END:VEVENT
BEGIN:VEVENT
DTSTART;TZID=Europe/Amsterdam:20251130T120000
DTEND;TZID=Europe/Amsterdam:20251130T170000
DTSTAMP:20260423T001025
CREATED:20251120T214238Z
LAST-MODIFIED:20251125T111313Z
UID:626-1764504000-1764522000@erwin-strikker.nl
SUMMARY:Pianist Erwin Strikker
DESCRIPTION:Zondagmiddag 30 nov verandert rustpunt Ligt Groen even in een muziekpunt! Twee muzikanten wisselen elkaar meerdere keren af. Frans speelt zijn favoriete Bob Dylan liedjes\, waarvan hij er enkele vertaald heeft in het Nederlands. Erwin heeft een breed repertoire. Wil je (mee) zingen met zijn pianomuziek? Check de site van Erwin voor het gehele repertoire en laat  in de reactie op FB van Ligt Groen even weten van welke nummers Erwin de bladmuziek voor je mee mag nemen (uiterlijk donderdag 27 nov doorgeven). Ter plekke verzoeknummers aanvragen bij Erwin kan ook.\n\n\nEr zijn natuurlijk wat lekkere baksels\, de houtkachel is aan & zoals altijd is er sprake van zelfbediening.\nHet rustpunt is deze zondag de 30e geopend van 12u tot 17u; de muziek is van 14u tot 16.30u. Gezellig als jij ook komt!! \nDe entree is gratis\, een vrije gift wordt op prijs gesteld.\nBetalen voor koffie/thee/fris/huisgemaakte baksels: contant of overboeken met je bank-app. Hopelijk zien (en horen ) we jou ook de 30e \n\n\n\nFaceBook Ligt Groen
URL:https://erwin-strikker.nl/agenda/pianist-erwin-strikker-48/
LOCATION:Rustpunt Ligt Groen\, Genselerweg 24\, Hengelo
END:VEVENT
END:VCALENDAR