BEGIN:VCALENDAR
VERSION:2.0
PRODID:-//Erwin Strikker - ECPv6.15.20//NONSGML v1.0//EN
CALSCALE:GREGORIAN
METHOD:PUBLISH
X-WR-CALNAME:Erwin Strikker
X-ORIGINAL-URL:https://erwin-strikker.nl
X-WR-CALDESC:Evenementen voor Erwin Strikker
REFRESH-INTERVAL;VALUE=DURATION:PT1H
X-Robots-Tag:noindex
X-PUBLISHED-TTL:PT1H
BEGIN:VTIMEZONE
TZID:Europe/Amsterdam
BEGIN:DAYLIGHT
TZOFFSETFROM:+0100
TZOFFSETTO:+0200
TZNAME:CEST
DTSTART:20250330T010000
END:DAYLIGHT
BEGIN:STANDARD
TZOFFSETFROM:+0200
TZOFFSETTO:+0100
TZNAME:CET
DTSTART:20251026T010000
END:STANDARD
BEGIN:DAYLIGHT
TZOFFSETFROM:+0100
TZOFFSETTO:+0200
TZNAME:CEST
DTSTART:20260329T010000
END:DAYLIGHT
BEGIN:STANDARD
TZOFFSETFROM:+0200
TZOFFSETTO:+0100
TZNAME:CET
DTSTART:20261025T010000
END:STANDARD
BEGIN:DAYLIGHT
TZOFFSETFROM:+0100
TZOFFSETTO:+0200
TZNAME:CEST
DTSTART:20270328T010000
END:DAYLIGHT
BEGIN:STANDARD
TZOFFSETFROM:+0200
TZOFFSETTO:+0100
TZNAME:CET
DTSTART:20271031T010000
END:STANDARD
END:VTIMEZONE
BEGIN:VEVENT
DTSTART;TZID=Europe/Amsterdam:20260405T100000
DTEND;TZID=Europe/Amsterdam:20260405T130000
DTSTAMP:20260420T042505
CREATED:20260331T101454Z
LAST-MODIFIED:20260331T101454Z
UID:718-1775383200-1775394000@erwin-strikker.nl
SUMMARY:Pianist Erwin Strikker
DESCRIPTION:Deze 1ste Paasdag speelt Erwin op de vleugel in de lounge van Theaterhotel Almelo tijdens het ontbijt.
URL:https://erwin-strikker.nl/agenda/pianist-erwin-strikker-78/
LOCATION:Theaterhotel Almelo\, Schouwburgplein 1\, Almelo\, 7607 AE
END:VEVENT
END:VCALENDAR