BEGIN:VCALENDAR
VERSION:2.0
PRODID:-//Erwin Strikker - ECPv6.15.20//NONSGML v1.0//EN
CALSCALE:GREGORIAN
METHOD:PUBLISH
X-ORIGINAL-URL:https://erwin-strikker.nl
X-WR-CALDESC:Evenementen voor Erwin Strikker
REFRESH-INTERVAL;VALUE=DURATION:PT1H
X-Robots-Tag:noindex
X-PUBLISHED-TTL:PT1H
BEGIN:VTIMEZONE
TZID:Europe/Amsterdam
BEGIN:DAYLIGHT
TZOFFSETFROM:+0100
TZOFFSETTO:+0200
TZNAME:CEST
DTSTART:20240331T010000
END:DAYLIGHT
BEGIN:STANDARD
TZOFFSETFROM:+0200
TZOFFSETTO:+0100
TZNAME:CET
DTSTART:20241027T010000
END:STANDARD
BEGIN:DAYLIGHT
TZOFFSETFROM:+0100
TZOFFSETTO:+0200
TZNAME:CEST
DTSTART:20250330T010000
END:DAYLIGHT
BEGIN:STANDARD
TZOFFSETFROM:+0200
TZOFFSETTO:+0100
TZNAME:CET
DTSTART:20251026T010000
END:STANDARD
BEGIN:DAYLIGHT
TZOFFSETFROM:+0100
TZOFFSETTO:+0200
TZNAME:CEST
DTSTART:20260329T010000
END:DAYLIGHT
BEGIN:STANDARD
TZOFFSETFROM:+0200
TZOFFSETTO:+0100
TZNAME:CET
DTSTART:20261025T010000
END:STANDARD
END:VTIMEZONE
BEGIN:VEVENT
DTSTART;TZID=Europe/Amsterdam:20250202T100000
DTEND;TZID=Europe/Amsterdam:20250202T130000
DTSTAMP:20260423T103745
CREATED:20250121T185756Z
LAST-MODIFIED:20250121T191527Z
UID:490-1738490400-1738501200@erwin-strikker.nl
SUMMARY:Pianist Erwin Strikker
DESCRIPTION:Vanmorgen speelt Erwin tijdens het ontbijt op de vleugel in Theaterhotel Almelo.
URL:https://erwin-strikker.nl/agenda/pianist-erin-strikker/
LOCATION:Theaterhotel Almelo\, Schouwburgplein 1\, Almelo\, 7607 AE
END:VEVENT
BEGIN:VEVENT
DTSTART;TZID=Europe/Amsterdam:20250216T100000
DTEND;TZID=Europe/Amsterdam:20250216T130000
DTSTAMP:20260423T103745
CREATED:20250121T185842Z
LAST-MODIFIED:20250121T185842Z
UID:492-1739700000-1739710800@erwin-strikker.nl
SUMMARY:Pianist Erwin Strikker
DESCRIPTION:Vanmorgen speelt Erwin tijdens het ontbijt op de vleugel in Theaterhotel Almelo.
URL:https://erwin-strikker.nl/agenda/pianist-erwin-strikker-23/
LOCATION:Theaterhotel Almelo\, Schouwburgplein 1\, Almelo\, 7607 AE
END:VEVENT
END:VCALENDAR