BEGIN:VCALENDAR
VERSION:2.0
PRODID:-//Erwin Strikker - ECPv6.15.20//NONSGML v1.0//EN
CALSCALE:GREGORIAN
METHOD:PUBLISH
X-WR-CALNAME:Erwin Strikker
X-ORIGINAL-URL:https://erwin-strikker.nl
X-WR-CALDESC:Evenementen voor Erwin Strikker
REFRESH-INTERVAL;VALUE=DURATION:PT1H
X-Robots-Tag:noindex
X-PUBLISHED-TTL:PT1H
BEGIN:VTIMEZONE
TZID:Europe/Amsterdam
BEGIN:DAYLIGHT
TZOFFSETFROM:+0100
TZOFFSETTO:+0200
TZNAME:CEST
DTSTART:20240331T010000
END:DAYLIGHT
BEGIN:STANDARD
TZOFFSETFROM:+0200
TZOFFSETTO:+0100
TZNAME:CET
DTSTART:20241027T010000
END:STANDARD
BEGIN:DAYLIGHT
TZOFFSETFROM:+0100
TZOFFSETTO:+0200
TZNAME:CEST
DTSTART:20250330T010000
END:DAYLIGHT
BEGIN:STANDARD
TZOFFSETFROM:+0200
TZOFFSETTO:+0100
TZNAME:CET
DTSTART:20251026T010000
END:STANDARD
BEGIN:DAYLIGHT
TZOFFSETFROM:+0100
TZOFFSETTO:+0200
TZNAME:CEST
DTSTART:20260329T010000
END:DAYLIGHT
BEGIN:STANDARD
TZOFFSETFROM:+0200
TZOFFSETTO:+0100
TZNAME:CET
DTSTART:20261025T010000
END:STANDARD
END:VTIMEZONE
BEGIN:VEVENT
DTSTART;TZID=Europe/Amsterdam:20250803T100000
DTEND;TZID=Europe/Amsterdam:20250803T130000
DTSTAMP:20260423T022921
CREATED:20250801T220123Z
LAST-MODIFIED:20250801T220123Z
UID:519-1754215200-1754226000@erwin-strikker.nl
SUMMARY:Pianist Erwin Strikker
DESCRIPTION:Vanmorgen speelt Erwin tijdens het ontbijt in de lounge van Theaterhotel Almelo op de vleugel.
URL:https://erwin-strikker.nl/agenda/pianist-erwin-strikker-31/
LOCATION:Theaterhotel Almelo\, Schouwburgplein 1\, Almelo\, 7607 AE
END:VEVENT
BEGIN:VEVENT
DTSTART;TZID=Europe/Amsterdam:20250817T100000
DTEND;TZID=Europe/Amsterdam:20250817T130000
DTSTAMP:20260423T022921
CREATED:20250801T220216Z
LAST-MODIFIED:20250801T220216Z
UID:521-1755424800-1755435600@erwin-strikker.nl
SUMMARY:Pianist Erwin Strikker
DESCRIPTION:Vanmorgen speelt Erwin tijdens het ontbijt in de lounge van Theaterhotel Almelo op de vleugel.
URL:https://erwin-strikker.nl/agenda/pianist-erwin-strikker-32/
LOCATION:Theaterhotel Almelo\, Schouwburgplein 1\, Almelo\, 7607 AE
END:VEVENT
BEGIN:VEVENT
DTSTART;TZID=Europe/Amsterdam:20250820T170000
DTEND;TZID=Europe/Amsterdam:20250820T190000
DTSTAMP:20260423T022921
CREATED:20250820T163350Z
LAST-MODIFIED:20250820T163350Z
UID:541-1755709200-1755716400@erwin-strikker.nl
SUMMARY:Pianist Erwin Strikker
DESCRIPTION:Vandaag speelt Erwin op de piano tijdens het Glimz en Glamour evenement bij de Twentse Golfclub.\nHet optreden zal aangevuld worden door de zangeressen Sandra Fluttert en Elena Kopanychuk.
URL:https://erwin-strikker.nl/agenda/pianist-erwin-strikker-40/
LOCATION:Twentse Golfclub\, Almelosestraat 17\, Ambt Delden
END:VEVENT
BEGIN:VEVENT
DTSTART;TZID=Europe/Amsterdam:20250831T100000
DTEND;TZID=Europe/Amsterdam:20250831T130000
DTSTAMP:20260423T022921
CREATED:20250801T220547Z
LAST-MODIFIED:20250801T220547Z
UID:523-1756634400-1756645200@erwin-strikker.nl
SUMMARY:Pianist Erwin Strikker
DESCRIPTION:Vanmorgen speelt Erwin tijdens het ontbijt in de lounge van Theaterhotel Almelo op de vleugel. \n 
URL:https://erwin-strikker.nl/agenda/pianist-erwin-strikker-33/
LOCATION:Theaterhotel Almelo\, Schouwburgplein 1\, Almelo\, 7607 AE
END:VEVENT
END:VCALENDAR