BEGIN:VCALENDAR
VERSION:2.0
PRODID:-//Erwin Strikker - ECPv6.15.20//NONSGML v1.0//EN
CALSCALE:GREGORIAN
METHOD:PUBLISH
X-WR-CALNAME:Erwin Strikker
X-ORIGINAL-URL:https://erwin-strikker.nl
X-WR-CALDESC:Evenementen voor Erwin Strikker
REFRESH-INTERVAL;VALUE=DURATION:PT1H
X-Robots-Tag:noindex
X-PUBLISHED-TTL:PT1H
BEGIN:VTIMEZONE
TZID:Europe/Amsterdam
BEGIN:DAYLIGHT
TZOFFSETFROM:+0100
TZOFFSETTO:+0200
TZNAME:CEST
DTSTART:20240331T010000
END:DAYLIGHT
BEGIN:STANDARD
TZOFFSETFROM:+0200
TZOFFSETTO:+0100
TZNAME:CET
DTSTART:20241027T010000
END:STANDARD
BEGIN:DAYLIGHT
TZOFFSETFROM:+0100
TZOFFSETTO:+0200
TZNAME:CEST
DTSTART:20250330T010000
END:DAYLIGHT
BEGIN:STANDARD
TZOFFSETFROM:+0200
TZOFFSETTO:+0100
TZNAME:CET
DTSTART:20251026T010000
END:STANDARD
BEGIN:DAYLIGHT
TZOFFSETFROM:+0100
TZOFFSETTO:+0200
TZNAME:CEST
DTSTART:20260329T010000
END:DAYLIGHT
BEGIN:STANDARD
TZOFFSETFROM:+0200
TZOFFSETTO:+0100
TZNAME:CET
DTSTART:20261025T010000
END:STANDARD
END:VTIMEZONE
BEGIN:VEVENT
DTSTART;TZID=Europe/Amsterdam:20251101T110000
DTEND;TZID=Europe/Amsterdam:20251101T140000
DTSTAMP:20260422T230220
CREATED:20251027T172612Z
LAST-MODIFIED:20251027T172612Z
UID:551-1761994800-1762005600@erwin-strikker.nl
SUMMARY:Pianist Erwin Strikker
DESCRIPTION:Vanmorgen speelt Erwin in de lounge van Theaterhotel Almelo op de vleugel.\nEen sfeervolle binnenkomer en gezellig tijdens de lunch.
URL:https://erwin-strikker.nl/agenda/pianist-erwin-strikker-42/
LOCATION:Theaterhotel Almelo\, Schouwburgplein 1\, Almelo\, 7607 AE
END:VEVENT
BEGIN:VEVENT
DTSTART;TZID=Europe/Amsterdam:20251102T100000
DTEND;TZID=Europe/Amsterdam:20251102T130000
DTSTAMP:20260422T230220
CREATED:20250801T221053Z
LAST-MODIFIED:20250801T221053Z
UID:533-1762077600-1762088400@erwin-strikker.nl
SUMMARY:Pianist Erwin Strikker
DESCRIPTION:Vanmorgen speelt Erwin tijdens het ontbijt in de lounge van Theaterhotel Almelo op de vleugel.
URL:https://erwin-strikker.nl/agenda/pianist-erwin-strikker-38/
LOCATION:Theaterhotel Almelo\, Schouwburgplein 1\, Almelo\, 7607 AE
END:VEVENT
BEGIN:VEVENT
DTSTART;TZID=Europe/Amsterdam:20251104T170000
DTEND;TZID=Europe/Amsterdam:20251104T193000
DTSTAMP:20260422T230220
CREATED:20251027T174854Z
LAST-MODIFIED:20251027T174854Z
UID:558-1762275600-1762284600@erwin-strikker.nl
SUMMARY:Pianist Erwin Strikker
DESCRIPTION:Vanavond speelt Erwin sfeervolle melodieën op de piano tijdens een diner van bewoners met hun naasten van TMZ Het Borsthuis.\nDit is een besloten bijeenkomst.
URL:https://erwin-strikker.nl/agenda/pianist-erwin-strikker-43/
END:VEVENT
BEGIN:VEVENT
DTSTART;TZID=Europe/Amsterdam:20251108T130000
DTEND;TZID=Europe/Amsterdam:20251108T150000
DTSTAMP:20260422T230220
CREATED:20251027T180121Z
LAST-MODIFIED:20251027T180121Z
UID:560-1762606800-1762614000@erwin-strikker.nl
SUMMARY:Ratsmodee live
DESCRIPTION:Eindelijk komt Jaap Elzenga zijn album Ratsmodee live doen. Ratsmodee gaat niet over oppervlakkige zaken: “Het is geen feestmuziek en een plaat van holadiee we gaan naar zee.” Door te zingen in het Nederlands en het allemaal heel persoonlijk te maken gaat het écht ergens over\, bijvoorbeeld over liefde\, verdriet en afscheid.”.\nDeze live versie wordt door Erwin op de piano ondersteund. \nVanaf 13:00 uur en natuurlijk is entree GRATIS!\n \nVoor meer info: Elpees Van Kees – dé platenzaak in Hengelo. – www.elpeesvankees.nl
URL:https://erwin-strikker.nl/agenda/ratsmodee-live/
LOCATION:Elpees van Kees\, Nieuwstraat 20\, Hengelo\, 7551 CX
END:VEVENT
BEGIN:VEVENT
DTSTART;TZID=Europe/Amsterdam:20251111T140000
DTEND;TZID=Europe/Amsterdam:20251111T160000
DTSTAMP:20260422T230220
CREATED:20251027T181212Z
LAST-MODIFIED:20251027T181212Z
UID:563-1762869600-1762876800@erwin-strikker.nl
SUMMARY:Pianist Erwin Strikker
DESCRIPTION:Vandaag wordt in TMZ Het Borsthuis weer het Parkinsoncafé gehouden.\nMet vandaag de jaarlijkse pubquiz ondersteunt door Erwin op de piano.\nWie gaan er dit keer met de wisselbeker naar huis?  Kom meespelen\, test uw kennis van het nieuws van afgelopen jaar en zing mee bij de muziekvragen! \nParkinson Café Hengelo is een laagdrempelige ontmoetingsplek voor mensen met de ziekte van Parkinson(ismen)\, hun partners\, familieleden en mantelzorgers. In een ontspannen sfeer worden er diverse onderwerpen besproken. Naast het uitwisselen van informatie en ervaringen kunt u in het Parkinson Café ook contact leggen met lotgenoten.
URL:https://erwin-strikker.nl/agenda/pianist-erwin-strikker-44/
LOCATION:TMZ Het Borsthuis\, P.C. Borstlaan 10\, 7555 SH Hengelo
END:VEVENT
BEGIN:VEVENT
DTSTART;TZID=Europe/Amsterdam:20251116T100000
DTEND;TZID=Europe/Amsterdam:20251116T130000
DTSTAMP:20260422T230220
CREATED:20251027T181441Z
LAST-MODIFIED:20251027T181441Z
UID:565-1763287200-1763298000@erwin-strikker.nl
SUMMARY:Pianist Erwin Strikker
DESCRIPTION:Vanmorgen speelt Erwin op de vleugel in de lounge van Theaterhotel Almelo tijdens het ontbijt kunt u van sfeervolle melodieën genieten.
URL:https://erwin-strikker.nl/agenda/pianist-erwin-strikker-45/
LOCATION:Theaterhotel Almelo\, Schouwburgplein 1\, Almelo\, 7607 AE
END:VEVENT
BEGIN:VEVENT
DTSTART;TZID=Europe/Amsterdam:20251120T080000
DTEND;TZID=Europe/Amsterdam:20251120T170000
DTSTAMP:20260422T230220
CREATED:20251120T213257Z
LAST-MODIFIED:20251120T213257Z
UID:623-1763625600-1763658000@erwin-strikker.nl
SUMMARY:Pianist Erwin Strikker
DESCRIPTION:Zondagmiddag 30 nov verandert rustpunt Ligt Groen even in een muziekpunt! Twee muzikanten wisselen elkaar meerdere keren af. Frans speelt zijn favoriete Bob Dylan liedjes\, waarvan hij er enkele vertaald heeft in het Nederlands. Erwin heeft een breed repertoire. Wil je (mee) zingen met zijn pianomuziek? Check zijn pianorepertoire op de site en laat in de reacties op FB van Ligt Groen even weten van welke nummers Erwin de bladmuziek voor je mee mag nemen (uiterlijk donderdag 27 nov doorgeven). Ter plekke verzoeknummers aanvragen bij Erwin kan ook.\n\n\nEr zijn natuurlijk wat lekkere baksels\, de houtkachel is aan & zoals altijd is er sprake van zelfbediening.\nHet rustpunt is deze zondag de 30e geopend van 12u tot 17u; de muziek is van 14u tot 16.30u. Gezellig als jij ook komt!! \nDe entree is gratis\, een vrije gift wordt op prijs gesteld.\nBetalen voor koffie/thee/fris/huisgemaakte baksels: contant of overboeken met je bank-app. Hopelijk zien (en horen ) we jou ook de 30e \n\n \nInfo rustpunt Ligt Groen
URL:https://erwin-strikker.nl/agenda/pianist-erwin-strikker-47/
END:VEVENT
BEGIN:VEVENT
DTSTART;TZID=Europe/Amsterdam:20251129T110000
DTEND;TZID=Europe/Amsterdam:20251129T140000
DTSTAMP:20260422T230220
CREATED:20251125T112124Z
LAST-MODIFIED:20251125T112124Z
UID:635-1764414000-1764424800@erwin-strikker.nl
SUMMARY:Pianist Erwin Strikker
DESCRIPTION:Tijdens binnenkomst van de gasten in Theaterhotel Almelo speelt Erwin op de vleugel in de lounge.
URL:https://erwin-strikker.nl/agenda/pianist-erwin-strikker-49/
LOCATION:Theaterhotel Almelo\, Schouwburgplein 1\, Almelo\, 7607 AE
END:VEVENT
BEGIN:VEVENT
DTSTART;TZID=Europe/Amsterdam:20251129T183000
DTEND;TZID=Europe/Amsterdam:20251129T213000
DTSTAMP:20260422T230220
CREATED:20251125T112714Z
LAST-MODIFIED:20251125T112714Z
UID:637-1764441000-1764451800@erwin-strikker.nl
SUMMARY:Pianist Erwin Strikker
DESCRIPTION:Vanavond speelt Erwin op de vleugel voor de gasten in Landgoed De Holtweijde.\nGeniet van een heerlijk diner tijdens mooie muziek!
URL:https://erwin-strikker.nl/agenda/pianist-erwin-strikker-50/
LOCATION:Landgoed De Holtweijde\, Spiekweg 7\, Lattrop
END:VEVENT
BEGIN:VEVENT
DTSTART;TZID=Europe/Amsterdam:20251130T100000
DTEND;TZID=Europe/Amsterdam:20251130T130000
DTSTAMP:20260422T230220
CREATED:20251125T112929Z
LAST-MODIFIED:20251125T112929Z
UID:640-1764496800-1764507600@erwin-strikker.nl
SUMMARY:Pianist Erwin Strikker
DESCRIPTION:Vanmorgen speelt Erwin tijdens het ontbijt op de vleugel in de lounge van Theaterhotel Almelo.\nGeniet van sfeervol ontbijten tijdens prachtige muziek!
URL:https://erwin-strikker.nl/agenda/pianist-erwin-strikker-51/
LOCATION:Theaterhotel Almelo\, Schouwburgplein 1\, Almelo\, 7607 AE
END:VEVENT
BEGIN:VEVENT
DTSTART;TZID=Europe/Amsterdam:20251130T120000
DTEND;TZID=Europe/Amsterdam:20251130T170000
DTSTAMP:20260422T230220
CREATED:20251120T214238Z
LAST-MODIFIED:20251125T111313Z
UID:626-1764504000-1764522000@erwin-strikker.nl
SUMMARY:Pianist Erwin Strikker
DESCRIPTION:Zondagmiddag 30 nov verandert rustpunt Ligt Groen even in een muziekpunt! Twee muzikanten wisselen elkaar meerdere keren af. Frans speelt zijn favoriete Bob Dylan liedjes\, waarvan hij er enkele vertaald heeft in het Nederlands. Erwin heeft een breed repertoire. Wil je (mee) zingen met zijn pianomuziek? Check de site van Erwin voor het gehele repertoire en laat  in de reactie op FB van Ligt Groen even weten van welke nummers Erwin de bladmuziek voor je mee mag nemen (uiterlijk donderdag 27 nov doorgeven). Ter plekke verzoeknummers aanvragen bij Erwin kan ook.\n\n\nEr zijn natuurlijk wat lekkere baksels\, de houtkachel is aan & zoals altijd is er sprake van zelfbediening.\nHet rustpunt is deze zondag de 30e geopend van 12u tot 17u; de muziek is van 14u tot 16.30u. Gezellig als jij ook komt!! \nDe entree is gratis\, een vrije gift wordt op prijs gesteld.\nBetalen voor koffie/thee/fris/huisgemaakte baksels: contant of overboeken met je bank-app. Hopelijk zien (en horen ) we jou ook de 30e \n\n\n\nFaceBook Ligt Groen
URL:https://erwin-strikker.nl/agenda/pianist-erwin-strikker-48/
LOCATION:Rustpunt Ligt Groen\, Genselerweg 24\, Hengelo
END:VEVENT
END:VCALENDAR