BEGIN:VCALENDAR
VERSION:2.0
PRODID:-//Erwin Strikker - ECPv6.15.20//NONSGML v1.0//EN
CALSCALE:GREGORIAN
METHOD:PUBLISH
X-WR-CALNAME:Erwin Strikker
X-ORIGINAL-URL:https://erwin-strikker.nl
X-WR-CALDESC:Evenementen voor Erwin Strikker
REFRESH-INTERVAL;VALUE=DURATION:PT1H
X-Robots-Tag:noindex
X-PUBLISHED-TTL:PT1H
BEGIN:VTIMEZONE
TZID:Europe/Amsterdam
BEGIN:DAYLIGHT
TZOFFSETFROM:+0100
TZOFFSETTO:+0200
TZNAME:CEST
DTSTART:20240331T010000
END:DAYLIGHT
BEGIN:STANDARD
TZOFFSETFROM:+0200
TZOFFSETTO:+0100
TZNAME:CET
DTSTART:20241027T010000
END:STANDARD
BEGIN:DAYLIGHT
TZOFFSETFROM:+0100
TZOFFSETTO:+0200
TZNAME:CEST
DTSTART:20250330T010000
END:DAYLIGHT
BEGIN:STANDARD
TZOFFSETFROM:+0200
TZOFFSETTO:+0100
TZNAME:CET
DTSTART:20251026T010000
END:STANDARD
BEGIN:DAYLIGHT
TZOFFSETFROM:+0100
TZOFFSETTO:+0200
TZNAME:CEST
DTSTART:20260329T010000
END:DAYLIGHT
BEGIN:STANDARD
TZOFFSETFROM:+0200
TZOFFSETTO:+0100
TZNAME:CET
DTSTART:20261025T010000
END:STANDARD
END:VTIMEZONE
BEGIN:VEVENT
DTSTART;TZID=Europe/Amsterdam:20251205T110000
DTEND;TZID=Europe/Amsterdam:20251205T120000
DTSTAMP:20260422T215624
CREATED:20251125T113145Z
LAST-MODIFIED:20251125T113145Z
UID:642-1764932400-1764936000@erwin-strikker.nl
SUMMARY:Pianist Erwin Strikker
DESCRIPTION:Vanmorgen speelt Erwin op de piano tijdens een besloten Sint-bijeenkomst bij TMZ Het Hof.
URL:https://erwin-strikker.nl/agenda/pianist-erwin-strikker-52/
LOCATION:TMZ Het Hof\, P.C. Borstlaan 123\, 7555 SL Hengelo
END:VEVENT
BEGIN:VEVENT
DTSTART;TZID=Europe/Amsterdam:20251206T110000
DTEND;TZID=Europe/Amsterdam:20251206T140000
DTSTAMP:20260422T215624
CREATED:20251125T113712Z
LAST-MODIFIED:20251125T113712Z
UID:644-1765018800-1765029600@erwin-strikker.nl
SUMMARY:Pianist Erwin Strikker
DESCRIPTION:Vanmorgen speelt Erwin bij binnenkomst van de gasten in Theaterhotel Almelo op de vleugel in de lounge.
URL:https://erwin-strikker.nl/agenda/pianist-erwin-strikker-53/
LOCATION:Theaterhotel Almelo\, Schouwburgplein 1\, Almelo\, 7607 AE
END:VEVENT
BEGIN:VEVENT
DTSTART;TZID=Europe/Amsterdam:20251212T140000
DTEND;TZID=Europe/Amsterdam:20251212T153000
DTSTAMP:20260422T215624
CREATED:20251125T113958Z
LAST-MODIFIED:20251125T113958Z
UID:648-1765548000-1765553400@erwin-strikker.nl
SUMMARY:Pianist Erwin Strikker
DESCRIPTION:Vanmiddag speelt Erwin in een besloten bijeenkomst op de piano voor de bewoners van één van de afdelingen van TMZ Het Borsthuis.
URL:https://erwin-strikker.nl/agenda/pianist-erwin-strikker-54/
LOCATION:TMZ Het Borsthuis\, P.C. Borstlaan 10\, 7555 SH Hengelo
END:VEVENT
BEGIN:VEVENT
DTSTART;TZID=Europe/Amsterdam:20251213T110000
DTEND;TZID=Europe/Amsterdam:20251213T140000
DTSTAMP:20260422T215624
CREATED:20251125T114146Z
LAST-MODIFIED:20251125T114146Z
UID:650-1765623600-1765634400@erwin-strikker.nl
SUMMARY:Pianist Erwin Strikker
DESCRIPTION:Vanmorgen speelt Erwin op de vleugel in de lounge van Theaterhotel Almelo tijdens binnenkomst van de gasten.\nWat een sfeervolle binnenkomst!
URL:https://erwin-strikker.nl/agenda/pianist-erwin-strikker-55/
LOCATION:Theaterhotel Almelo\, Schouwburgplein 1\, Almelo\, 7607 AE
END:VEVENT
BEGIN:VEVENT
DTSTART;TZID=Europe/Amsterdam:20251214T100000
DTEND;TZID=Europe/Amsterdam:20251214T130000
DTSTAMP:20260422T215624
CREATED:20251125T114313Z
LAST-MODIFIED:20251125T114313Z
UID:652-1765706400-1765717200@erwin-strikker.nl
SUMMARY:Pianist Erwin Strikker
DESCRIPTION:Tijdens het ontbijt in Theaterhotel Almelo speelt Erwin op de vleugel in de lounge.
URL:https://erwin-strikker.nl/agenda/pianist-erwin-strikker-56/
LOCATION:Theaterhotel Almelo\, Schouwburgplein 1\, Almelo\, 7607 AE
END:VEVENT
BEGIN:VEVENT
DTSTART;TZID=Europe/Amsterdam:20251214T143000
DTEND;TZID=Europe/Amsterdam:20251214T160000
DTSTAMP:20260422T215624
CREATED:20251027T173517Z
LAST-MODIFIED:20251120T150833Z
UID:553-1765722600-1765728000@erwin-strikker.nl
SUMMARY:Vocal Harmony Hengelo
DESCRIPTION:Vanmiddag staat het koor Vocal Harmony onder leiding van Erwin op de planken met een Kerstconcert in speeltuinvereniging de Jeugd.\nDit is een openbaar concert waar geen entreekosten aan verbonden zijn. Wel wordt een vrije gift op prijs gesteld. \n \n 
URL:https://erwin-strikker.nl/agenda/vocal-harmony-hengelo-2/
LOCATION:Speeltuinvereniging De Jeugd\, Anthoniusstraat 52\, Hengelo\, 7553 WE
END:VEVENT
BEGIN:VEVENT
DTSTART;TZID=Europe/Amsterdam:20251215T193000
DTEND;TZID=Europe/Amsterdam:20251215T210000
DTSTAMP:20260422T215624
CREATED:20251027T174550Z
LAST-MODIFIED:20251027T174550Z
UID:556-1765827000-1765832400@erwin-strikker.nl
SUMMARY:Vocal Harmony Hengelo
DESCRIPTION:Vanavond zingt het koor Vocal Harmony uit Hengelo onder leiding van Erwin een Kerstconcert voor de bewoners van appartementencomplex Het Annink in Hengelo.\nDit is een besloten concert.
URL:https://erwin-strikker.nl/agenda/vocal-harmony-hengelo-3/
END:VEVENT
BEGIN:VEVENT
DTSTART;TZID=Europe/Amsterdam:20251220T110000
DTEND;TZID=Europe/Amsterdam:20251220T140000
DTSTAMP:20260422T215624
CREATED:20251125T114856Z
LAST-MODIFIED:20251125T114856Z
UID:654-1766228400-1766239200@erwin-strikker.nl
SUMMARY:Pianist Erwin Strikker
DESCRIPTION:Tijdens de binnenkomst van de gasten in Theaterhotel Almelo speelt Erwin op de vleugel in de lounge.\nKom in Kerstsfeer in het mooi aangeklede hotel en met heerlijke muziek.
URL:https://erwin-strikker.nl/agenda/pianist-erwin-strikker-57/
LOCATION:Theaterhotel Almelo\, Schouwburgplein 1\, Almelo\, 7607 AE
END:VEVENT
BEGIN:VEVENT
DTSTART;TZID=Europe/Amsterdam:20251222T163000
DTEND;TZID=Europe/Amsterdam:20251222T183000
DTSTAMP:20260422T215624
CREATED:20251125T115427Z
LAST-MODIFIED:20251125T115427Z
UID:657-1766421000-1766428200@erwin-strikker.nl
SUMMARY:Pianist Erwin Strikker
DESCRIPTION:Vanmiddag speelt Erwin piano tijdens een besloten Kerstdiner voor de bewoners van Zorgfederatie Mariahof.
URL:https://erwin-strikker.nl/agenda/pianist-erwin-strikker-58/
LOCATION:Zorgfederatie Mariahof\, Beatrixstraat 64\, 7573 AB Oldenzaal
END:VEVENT
BEGIN:VEVENT
DTSTART;TZID=Europe/Amsterdam:20251223T101500
DTEND;TZID=Europe/Amsterdam:20251223T120000
DTSTAMP:20260422T215624
CREATED:20251125T115657Z
LAST-MODIFIED:20251125T115657Z
UID:659-1766484900-1766491200@erwin-strikker.nl
SUMMARY:Pianist Erwin Strikker
DESCRIPTION:Tijdens een besloten Kerstviering op één van de afdelingen van TMZ Het Borsthuis speelt Erwin piano voor de bewoners.
URL:https://erwin-strikker.nl/agenda/pianist-erwin-strikker-59/
LOCATION:TMZ Het Borsthuis\, P.C. Borstlaan 10\, 7555 SH Hengelo
END:VEVENT
BEGIN:VEVENT
DTSTART;TZID=Europe/Amsterdam:20251225T100000
DTEND;TZID=Europe/Amsterdam:20251225T120000
DTSTAMP:20260422T215624
CREATED:20251125T120039Z
LAST-MODIFIED:20251125T120106Z
UID:661-1766656800-1766664000@erwin-strikker.nl
SUMMARY:Pianist Erwin Strikker
DESCRIPTION:Deze 1ste Kerstdag speelt Erwin op de vleugel tijdens het Kerstontbijt.\nSfeervol ontbijten in een mooi aangekleed hotel en heerlijke muziek.
URL:https://erwin-strikker.nl/agenda/pianist-erwin-strikker-60/
LOCATION:Theaterhotel Almelo\, Schouwburgplein 1\, Almelo\, 7607 AE
END:VEVENT
BEGIN:VEVENT
DTSTART;TZID=Europe/Amsterdam:20251227T110000
DTEND;TZID=Europe/Amsterdam:20251227T140000
DTSTAMP:20260422T215624
CREATED:20251125T120734Z
LAST-MODIFIED:20251125T120734Z
UID:667-1766833200-1766844000@erwin-strikker.nl
SUMMARY:Pianist Erwin Strikker
DESCRIPTION:Geniet van een sfeervolle binnenkomst in Theaterhotel Almelo tijdens het mooie pianospel van Erwin op de vleugel in de lounge.
URL:https://erwin-strikker.nl/agenda/pianist-erwin-strikker-62/
LOCATION:Theaterhotel Almelo\, Schouwburgplein 1\, Almelo\, 7607 AE
END:VEVENT
BEGIN:VEVENT
DTSTART;TZID=Europe/Amsterdam:20251228T100000
DTEND;TZID=Europe/Amsterdam:20251228T130000
DTSTAMP:20260422T215624
CREATED:20251125T120840Z
LAST-MODIFIED:20251125T120840Z
UID:669-1766916000-1766926800@erwin-strikker.nl
SUMMARY:Pianist Erwin Strikker
DESCRIPTION:Een lekker ontbijt tijdens pianomuziek gespeeld door Erwin in de sfeervolle lounge van Theaterhotel Almelo.
URL:https://erwin-strikker.nl/agenda/pianist-erwin-strikker-63/
LOCATION:Theaterhotel Almelo\, Schouwburgplein 1\, Almelo\, 7607 AE
END:VEVENT
END:VCALENDAR